BEGIN:VCALENDAR
VERSION:2.0
PRODID:-//Plone.org//NONSGML plone.app.event//EN
X-WR-TIMEZONE:Europe/Madrid
BEGIN:VEVENT
SUMMARY:Correfoc
DTSTART;TZID=Europe/Madrid;VALUE=DATE-TIME:20071201T213000
DTEND;TZID=Europe/Madrid;VALUE=DATE-TIME:20071201T223000
DTSTAMP;VALUE=DATE-TIME:20260420T064645Z
UID:f628d41cd9584d0a13d6843530d0c94c
CREATED;VALUE=DATE-TIME:20071201T000000Z
CATEGORIES:Festa
LOCATION:Passeig de Jaume Brutau
ORGANIZER:Secció de Festes i Tradicions Catalanes d'El Casal de Llavaneres
DESCRIPTION:Amb Els Banyuts de Llavaneres, els Diables de Premià i la Colla Basilisc de Mataró
URL:https://ajllavaneres.cat/document.php?id=421
END:VEVENT
END:VCALENDAR