BEGIN:VCALENDAR
VERSION:2.0
PRODID:-//Plone.org//NONSGML plone.app.event//EN
X-WR-TIMEZONE:Europe/Madrid
BEGIN:VEVENT
SUMMARY:Presentació del llibre "El Cardenal Vives i l'Església del seu temps". PRORROGAT
DTSTART;TZID=Europe/Madrid;VALUE=DATE-TIME:20071202T123000
DTEND;TZID=Europe/Madrid;VALUE=DATE-TIME:20071202T133000
DTSTAMP;VALUE=DATE-TIME:20260419T163459Z
UID:86a02a9bdc438b038652b32741d6a6ea
CREATED;VALUE=DATE-TIME:20071202T000000Z
CATEGORIES:Literatura
LOCATION:Temple parroquial
ORGANIZER:Parròquia de Sant Andreu
DESCRIPTION:De fra Valentí Serra de Manresa i Joan Devesa
URL:https://ajllavaneres.cat/document.php?id=424
END:VEVENT
END:VCALENDAR