BEGIN:VCALENDAR
VERSION:2.0
PRODID:-//Plone.org//NONSGML plone.app.event//EN
X-WR-TIMEZONE:Europe/Madrid
BEGIN:VEVENT
SUMMARY:IX Desfilada de Moda "Tope Models"
DTSTART;TZID=Europe/Madrid;VALUE=DATE-TIME:20071202T180000
DTEND;TZID=Europe/Madrid;VALUE=DATE-TIME:20071202T190000
DTSTAMP;VALUE=DATE-TIME:20260420T065057Z
UID:679bc6fed03b428a25aca8a3ae5be532
CREATED;VALUE=DATE-TIME:20071202T000000Z
CATEGORIES:Festa
LOCATION:Pavelló municipal
ORGANIZER:La Dona x la Dona
URL:https://ajllavaneres.cat/document.php?id=425
END:VEVENT
END:VCALENDAR