BEGIN:VCALENDAR
VERSION:2.0
PRODID:-//Plone.org//NONSGML plone.app.event//EN
X-WR-TIMEZONE:Europe/Madrid
BEGIN:VEVENT
SUMMARY:11a Fira del Llibre Vell
DTSTART;TZID=Europe/Madrid;VALUE=DATE-TIME:20071111T000000
DTEND;TZID=Europe/Madrid;VALUE=DATE-TIME:20071111T010000
DTSTAMP;VALUE=DATE-TIME:20260419T171509Z
UID:05f88011e5e8f3f2834e1f8c3f9cac80
CREATED;VALUE=DATE-TIME:20071111T000000Z
CATEGORIES:Literatura
LOCATION:Sala d'exposicions d'El Casal de Llavaneres
ORGANIZER:Secció de Cultura d'El Casal de Llavaneres
COMMENT:Preu: Tots els llibres a 1 euro
URL:https://ajllavaneres.cat/document.php?id=431
END:VEVENT
END:VCALENDAR