BEGIN:VCALENDAR
VERSION:2.0
PRODID:-//Plone.org//NONSGML plone.app.event//EN
X-WR-TIMEZONE:Europe/Madrid
BEGIN:VEVENT
SUMMARY:X Mostra de Teatre "Dani Tapias"
DTSTART;TZID=Europe/Madrid;VALUE=DATE-TIME:20071117T100000
DTEND;TZID=Europe/Madrid;VALUE=DATE-TIME:20071117T110000
DTSTAMP;VALUE=DATE-TIME:20260419T143051Z
UID:1a51e6a422e8a40cb0c7263c5604807a
CREATED;VALUE=DATE-TIME:20071117T000000Z
CATEGORIES:Teatre
LOCATION:Casal de Llavaneres
ORGANIZER:Secció de Teatre d'El Casal de Llavaneres
COMMENT:Preu: 3 euros
DESCRIPTION:&CloseCurlyDoubleQuote;Bang&CloseCurlyDoubleQuote; a càrrec de la Cia &OpenCurlyDoubleQuote;Els Cocou&CloseCurlyDoubleQuote;
URL:https://ajllavaneres.cat/document.php?id=433
END:VEVENT
END:VCALENDAR