BEGIN:VCALENDAR
VERSION:2.0
PRODID:-//Plone.org//NONSGML plone.app.event//EN
X-WR-TIMEZONE:Europe/Madrid
BEGIN:VEVENT
SUMMARY:XXII Marxa popular de Llavaneres
DTSTART;TZID=Europe/Madrid;VALUE=DATE-TIME:20071118T080000
DTEND;TZID=Europe/Madrid;VALUE=DATE-TIME:20071118T090000
DTSTAMP;VALUE=DATE-TIME:20260419T201157Z
UID:d8afc38eb60dd4d15c51a092e1123074
CREATED;VALUE=DATE-TIME:20071118T000000Z
CATEGORIES:Esports
LOCATION:Casal de Llavaneres
ORGANIZER:Secció Esportiva d'El Casal de Llavaneres
URL:https://ajllavaneres.cat/document.php?id=435
END:VEVENT
END:VCALENDAR