BEGIN:VCALENDAR
VERSION:2.0
PRODID:-//Plone.org//NONSGML plone.app.event//EN
X-WR-TIMEZONE:Europe/Madrid
BEGIN:VEVENT
SUMMARY:Alimentabo, fira de la tardor i del bolet
DTSTART;TZID=Europe/Madrid;VALUE=DATE-TIME:20071110T110000
DTEND;TZID=Europe/Madrid;VALUE=DATE-TIME:20071110T120000
DTSTAMP;VALUE=DATE-TIME:20260422T174318Z
UID:e4e5439571af3cbb8f17f443bb3fdcb4
CREATED;VALUE=DATE-TIME:20071110T000000Z
CATEGORIES:Mostra,Festa
LOCATION:Passeig de la Mare de Déu de Montserrat
ORGANIZER:Ajuntament de Sant Andreu de Llavaneres
COMMENT:Durada: Durant tot el dia
DESCRIPTION:9a Promoció de Productes Típics
URL:https://ajllavaneres.cat/document.php?id=441
END:VEVENT
END:VCALENDAR