BEGIN:VCALENDAR
VERSION:2.0
PRODID:-//Plone.org//NONSGML plone.app.event//EN
X-WR-TIMEZONE:Europe/Madrid
BEGIN:VEVENT
SUMMARY:Bàsquet Mini Femení
DTSTART;TZID=Europe/Madrid;VALUE=DATE-TIME:20071102T184500
DTEND;TZID=Europe/Madrid;VALUE=DATE-TIME:20071102T194500
DTSTAMP;VALUE=DATE-TIME:20260419T163606Z
UID:de96655375597e30b95cd74ae407630a
CREATED;VALUE=DATE-TIME:20071102T000000Z
CATEGORIES:Esports
LOCATION:Pavelló municipal
ORGANIZER:CE Serena Mar i CB Llavaneres
DESCRIPTION:Serenamar CB Llavaneres-CE Sant Nicolau B
URL:https://ajllavaneres.cat/document.php?id=459
END:VEVENT
END:VCALENDAR