BEGIN:VCALENDAR
VERSION:2.0
PRODID:-//Plone.org//NONSGML plone.app.event//EN
X-WR-TIMEZONE:Europe/Madrid
BEGIN:VEVENT
SUMMARY:Bàsquet Pre-Mini Masculí A
DTSTART;TZID=Europe/Madrid;VALUE=DATE-TIME:20071103T090000
DTEND;TZID=Europe/Madrid;VALUE=DATE-TIME:20071103T100000
DTSTAMP;VALUE=DATE-TIME:20260420T083159Z
UID:f055a589a81f3623f76f797b933b19ff
CREATED;VALUE=DATE-TIME:20071103T000000Z
CATEGORIES:Esports
LOCATION:Pavelló municipal Pista 2
ORGANIZER:C.B Llavaneres
DESCRIPTION:C.B Llavaneres-AEE Col·legi Cultural B
URL:https://ajllavaneres.cat/document.php?id=460
END:VEVENT
END:VCALENDAR