BEGIN:VCALENDAR
VERSION:2.0
PRODID:-//Plone.org//NONSGML plone.app.event//EN
X-WR-TIMEZONE:Europe/Madrid
BEGIN:VEVENT
SUMMARY:Bàsquet Pre Mini Masculí B
DTSTART;TZID=Europe/Madrid;VALUE=DATE-TIME:20071103T090000
DTEND;TZID=Europe/Madrid;VALUE=DATE-TIME:20071103T100000
DTSTAMP;VALUE=DATE-TIME:20260420T024502Z
UID:22d1939e925014b88f6c79036dbd43af
CREATED;VALUE=DATE-TIME:20071103T000000Z
CATEGORIES:Esports
LOCATION:Pavelló municipal Pista 3
ORGANIZER:CB Llavaneres
DESCRIPTION:CB Llavaneres-Salesians Mataró CBC Mixte
URL:https://ajllavaneres.cat/document.php?id=461
END:VEVENT
END:VCALENDAR