BEGIN:VCALENDAR
VERSION:2.0
PRODID:-//Plone.org//NONSGML plone.app.event//EN
X-WR-TIMEZONE:Europe/Madrid
BEGIN:VEVENT
SUMMARY:Bàsquet Mini Femení
DTSTART;TZID=Europe/Madrid;VALUE=DATE-TIME:20071103T113000
DTEND;TZID=Europe/Madrid;VALUE=DATE-TIME:20071103T123000
DTSTAMP;VALUE=DATE-TIME:20260420T081833Z
UID:b24bd6557d3dcb44dd5133df4426e0dd
CREATED;VALUE=DATE-TIME:20071103T000000Z
CATEGORIES:Esports
LOCATION:Pavelló municipal
ORGANIZER:CB Llavaneres
DESCRIPTION:CB Llavaneres-UE Mataró B
URL:https://ajllavaneres.cat/document.php?id=463
END:VEVENT
END:VCALENDAR