BEGIN:VCALENDAR
VERSION:2.0
PRODID:-//Plone.org//NONSGML plone.app.event//EN
X-WR-TIMEZONE:Europe/Madrid
BEGIN:VEVENT
SUMMARY:Bàsquet Cadet Masculí
DTSTART;TZID=Europe/Madrid;VALUE=DATE-TIME:20071104T160000
DTEND;TZID=Europe/Madrid;VALUE=DATE-TIME:20071104T170000
DTSTAMP;VALUE=DATE-TIME:20260419T182637Z
UID:4101eb28171b876c3e3798c65e5c7f77
CREATED;VALUE=DATE-TIME:20071104T000000Z
CATEGORIES:Esports
LOCATION:Pavelló municipal
ORGANIZER:CB Llavaneres
DESCRIPTION:CB Llavaneres-CB Arenys de Munt
URL:https://ajllavaneres.cat/document.php?id=466
END:VEVENT
END:VCALENDAR