BEGIN:VCALENDAR
VERSION:2.0
PRODID:-//Plone.org//NONSGML plone.app.event//EN
X-WR-TIMEZONE:Europe/Madrid
BEGIN:VEVENT
SUMMARY:Bàsquet Júnior Masculí B
DTSTART;TZID=Europe/Madrid;VALUE=DATE-TIME:20071104T173000
DTEND;TZID=Europe/Madrid;VALUE=DATE-TIME:20071104T183000
DTSTAMP;VALUE=DATE-TIME:20260421T101738Z
UID:6fe6a30812987c67ac556b9f5a84c759
CREATED;VALUE=DATE-TIME:20071104T000000Z
CATEGORIES:Esports
LOCATION:Pavelló municipal
ORGANIZER:CB Llavaneres
DESCRIPTION:CB Llavaneres- Casino del Centre
URL:https://ajllavaneres.cat/document.php?id=467
END:VEVENT
END:VCALENDAR