BEGIN:VCALENDAR
VERSION:2.0
PRODID:-//Plone.org//NONSGML plone.app.event//EN
X-WR-TIMEZONE:Europe/Madrid
BEGIN:VEVENT
SUMMARY:Futbol Infantil A
DTSTART;TZID=Europe/Madrid;VALUE=DATE-TIME:20071103T103000
DTEND;TZID=Europe/Madrid;VALUE=DATE-TIME:20071103T113000
DTSTAMP;VALUE=DATE-TIME:20260419T150825Z
UID:4635ca486e6f633840f23b5b0c582e3b
CREATED;VALUE=DATE-TIME:20071103T000000Z
CATEGORIES:Esports
LOCATION:Camp municipal d'Esports
ORGANIZER:Escola de Llavaneres CF
DESCRIPTION:Escola de Llavaneres CF-Cabrils CE A
URL:https://ajllavaneres.cat/document.php?id=469
END:VEVENT
END:VCALENDAR