BEGIN:VCALENDAR
VERSION:2.0
PRODID:-//Plone.org//NONSGML plone.app.event//EN
X-WR-TIMEZONE:Europe/Madrid
BEGIN:VEVENT
SUMMARY:Futbol 7 Aleví
DTSTART;TZID=Europe/Madrid;VALUE=DATE-TIME:20071104T100000
DTEND;TZID=Europe/Madrid;VALUE=DATE-TIME:20071104T110000
DTSTAMP;VALUE=DATE-TIME:20260419T172557Z
UID:ad1cef5852bf5da52dcf579633c6b462
CREATED;VALUE=DATE-TIME:20071104T000000Z
CATEGORIES:Esports
LOCATION:Camp municipal d'Esports
ORGANIZER:Escola de Llavaneres
DESCRIPTION:Escola de Llavaneres CF-Trinidad CD A
URL:https://ajllavaneres.cat/document.php?id=473
END:VEVENT
END:VCALENDAR