BEGIN:VCALENDAR
VERSION:2.0
PRODID:-//Plone.org//NONSGML plone.app.event//EN
X-WR-TIMEZONE:Europe/Madrid
BEGIN:VEVENT
SUMMARY:Futbol 1er equip
DTSTART;TZID=Europe/Madrid;VALUE=DATE-TIME:20071104T121500
DTEND;TZID=Europe/Madrid;VALUE=DATE-TIME:20071104T131500
DTSTAMP;VALUE=DATE-TIME:20260419T163121Z
UID:0f33129c8087f37754c8de935dd6f1b7
CREATED;VALUE=DATE-TIME:20071104T000000Z
CATEGORIES:Esports
LOCATION:Camp municipal d'Esports
ORGANIZER:CE Llavaneres
DESCRIPTION:CE Llavaneres-Santvicentí CF B
URL:https://ajllavaneres.cat/document.php?id=474
END:VEVENT
END:VCALENDAR