BEGIN:VCALENDAR
VERSION:2.0
PRODID:-//Plone.org//NONSGML plone.app.event//EN
X-WR-TIMEZONE:Europe/Madrid
BEGIN:VEVENT
SUMMARY:XVI Campionat de Pitch and Putt de Festa Major
DTSTART;TZID=Europe/Madrid;VALUE=DATE-TIME:20110716T090000
DTEND;TZID=Europe/Madrid;VALUE=DATE-TIME:20110716T100000
DTSTAMP;VALUE=DATE-TIME:20260419T141348Z
UID:3757011fef799529580220c657fc99ad
CREATED;VALUE=DATE-TIME:20110716T000000Z
LOCATION:Escola de Golf HCP 1
COMMENT:Preu: 20 &euro; adult / 15 &euro; infantil
DESCRIPTION:Sortida simultània
URL:https://ajllavaneres.cat/document.php?id=4750
END:VEVENT
END:VCALENDAR