BEGIN:VCALENDAR
VERSION:2.0
PRODID:-//Plone.org//NONSGML plone.app.event//EN
X-WR-TIMEZONE:Europe/Madrid
BEGIN:VEVENT
SUMMARY:Bàsquet Mini masculí
DTSTART;TZID=Europe/Madrid;VALUE=DATE-TIME:20071109T184500
DTEND;TZID=Europe/Madrid;VALUE=DATE-TIME:20071109T194500
DTSTAMP;VALUE=DATE-TIME:20260420T051615Z
UID:930c9a1f7793e90c93a0468226571b7f
CREATED;VALUE=DATE-TIME:20071109T000000Z
CATEGORIES:Esports
LOCATION:Pavelló municipal
ORGANIZER:CE Serena Mar i CB Llavaneres
DESCRIPTION:Serenamar CB Llavaneres-EBCB Calella A
URL:https://ajllavaneres.cat/document.php?id=477
END:VEVENT
END:VCALENDAR