BEGIN:VCALENDAR
VERSION:2.0
PRODID:-//Plone.org//NONSGML plone.app.event//EN
X-WR-TIMEZONE:Europe/Madrid
BEGIN:VEVENT
SUMMARY:Bàsquet Júnior A
DTSTART;TZID=Europe/Madrid;VALUE=DATE-TIME:20071111T160000
DTEND;TZID=Europe/Madrid;VALUE=DATE-TIME:20071111T170000
DTSTAMP;VALUE=DATE-TIME:20260419T230617Z
UID:3f9b1a76ca054016d01e2e2227104830
CREATED;VALUE=DATE-TIME:20071111T000000Z
CATEGORIES:Esports
LOCATION:Pavelló municipal
ORGANIZER:CB Llavaneres
DESCRIPTION:CB Llavaneres-Bàsquet Alella
URL:https://ajllavaneres.cat/document.php?id=482
END:VEVENT
END:VCALENDAR