BEGIN:VCALENDAR
VERSION:2.0
PRODID:-//Plone.org//NONSGML plone.app.event//EN
X-WR-TIMEZONE:Europe/Madrid
BEGIN:VEVENT
SUMMARY:Sortida al teatre
DTSTART;TZID=Europe/Madrid;VALUE=DATE-TIME:20070126T190000
DTEND;TZID=Europe/Madrid;VALUE=DATE-TIME:20070126T200000
DTSTAMP;VALUE=DATE-TIME:20260423T010532Z
UID:59a5f50c8e3bb3a1560c71a72678f14e
CREATED;VALUE=DATE-TIME:20070126T000000Z
LOCATION:Lloc de sortida: Pg. de Jaume Brutau (davant del CAP)
ORGANIZER:Regidoria de Cultura i Festes
COMMENT:Preu: 48 euros
DESCRIPTION:"Mamma Mia!" al Barcelona Teatre Musical (Palau d'Esports)
URL:https://ajllavaneres.cat/document.php?id=486
END:VEVENT
END:VCALENDAR