BEGIN:VCALENDAR
VERSION:2.0
PRODID:-//Plone.org//NONSGML plone.app.event//EN
X-WR-TIMEZONE:Europe/Madrid
BEGIN:VEVENT
SUMMARY:Arribada de Ses Majestats d'Orient
DTSTART;TZID=Europe/Madrid;VALUE=DATE-TIME:20080105T190000
DTEND;TZID=Europe/Madrid;VALUE=DATE-TIME:20080105T200000
DTSTAMP;VALUE=DATE-TIME:20260420T091922Z
UID:ff1a8d5af9277db174d79e35095f7fb5
CREATED;VALUE=DATE-TIME:20080105T000000Z
CATEGORIES:Infantils
LOCATION:Carrers de Llavaneres - Plaça de la Vila
ORGANIZER:Comissió Cavalcada de Reis
URL:https://ajllavaneres.cat/document.php?id=487
END:VEVENT
END:VCALENDAR