BEGIN:VCALENDAR
VERSION:2.0
PRODID:-//Plone.org//NONSGML plone.app.event//EN
X-WR-TIMEZONE:Europe/Madrid
BEGIN:VEVENT
SUMMARY:Eines de millora per cercar i millorar la informació a internet
DTSTART;TZID=Europe/Madrid;VALUE=DATE-TIME:20111115T183000
DTEND;TZID=Europe/Madrid;VALUE=DATE-TIME:20111115T193000
DTSTAMP;VALUE=DATE-TIME:20260423T090504Z
UID:b15da8fb5d01d10363931a31c467517f
CREATED;VALUE=DATE-TIME:20111115T000000Z
CATEGORIES:Cursos
LOCATION:Biblioteca municipal
ORGANIZER:I am a cookie.com
COMMENT:Durada: També el 16 de novembre
URL:https://ajllavaneres.cat/document.php?id=4895
END:VEVENT
END:VCALENDAR