BEGIN:VCALENDAR
VERSION:2.0
PRODID:-//Plone.org//NONSGML plone.app.event//EN
X-WR-TIMEZONE:Europe/Madrid
BEGIN:VEVENT
SUMMARY:"La pallasa Priska"
DTSTART;TZID=Europe/Madrid;VALUE=DATE-TIME:20070512T120000
DTEND;TZID=Europe/Madrid;VALUE=DATE-TIME:20070512T130000
DTSTAMP;VALUE=DATE-TIME:20260422T212216Z
UID:661924af0552a9579886093523f048ad
CREATED;VALUE=DATE-TIME:20070512T000000Z
CATEGORIES:Infantils
LOCATION:Bilblioteca municipal (sala infantil)
ORGANIZER:Biblioteca Municipal
COMMENT:Preu: Gratuït
DESCRIPTION:L'hora del conte
URL:https://ajllavaneres.cat/document.php?id=5
END:VEVENT
END:VCALENDAR