BEGIN:VCALENDAR
VERSION:2.0
PRODID:-//Plone.org//NONSGML plone.app.event//EN
X-WR-TIMEZONE:Europe/Madrid
BEGIN:VEVENT
SUMMARY:Futbol Infantil B
DTSTART;TZID=Europe/Madrid;VALUE=DATE-TIME:20071111T100000
DTEND;TZID=Europe/Madrid;VALUE=DATE-TIME:20071111T110000
DTSTAMP;VALUE=DATE-TIME:20260420T092511Z
UID:768fb1d26e5b019883ddcd1be54b0d78
CREATED;VALUE=DATE-TIME:20071111T000000Z
CATEGORIES:Esports
LOCATION:Camp municipal d'Esports
ORGANIZER:Escola de Llavaneres CF
DESCRIPTION:Escola de Llavaneres CF-Premià de Dalt CD
URL:https://ajllavaneres.cat/document.php?id=500
END:VEVENT
END:VCALENDAR