BEGIN:VCALENDAR
VERSION:2.0
PRODID:-//Plone.org//NONSGML plone.app.event//EN
X-WR-TIMEZONE:Europe/Madrid
BEGIN:VEVENT
SUMMARY:Futbol 2n equip
DTSTART;TZID=Europe/Madrid;VALUE=DATE-TIME:20071111T120000
DTEND;TZID=Europe/Madrid;VALUE=DATE-TIME:20071111T130000
DTSTAMP;VALUE=DATE-TIME:20260420T012325Z
UID:e3371e060998f404fc00f556499e4ee5
CREATED;VALUE=DATE-TIME:20071111T000000Z
CATEGORIES:Esports
LOCATION:Camp municipal d'Esports
ORGANIZER:CE Llavaneres
DESCRIPTION:CE Llavaneres-Sta. M. Montcada UD
URL:https://ajllavaneres.cat/document.php?id=501
END:VEVENT
END:VCALENDAR