BEGIN:VCALENDAR
VERSION:2.0
PRODID:-//Plone.org//NONSGML plone.app.event//EN
X-WR-TIMEZONE:Europe/Madrid
BEGIN:VEVENT
SUMMARY:Fira de Nadal
DTSTART;TZID=Europe/Madrid;VALUE=DATE-TIME:20071205T110000
DTEND;TZID=Europe/Madrid;VALUE=DATE-TIME:20071205T120000
DTSTAMP;VALUE=DATE-TIME:20260420T092714Z
UID:430ec0c99f680ed5388517ae507ead8b
CREATED;VALUE=DATE-TIME:20071205T000000Z
LOCATION:Passeig de la Maré de Déu de Montserrat
ORGANIZER:Regidoria de Promoció Econòmica, Comerç i Turisme
COMMENT:Durada: Fins el 9 de desembre
DESCRIPTION:Fira de productes nadalencs, en totes les seves variants
URL:https://ajllavaneres.cat/document.php?id=505
END:VEVENT
END:VCALENDAR