BEGIN:VCALENDAR
VERSION:2.0
PRODID:-//Plone.org//NONSGML plone.app.event//EN
X-WR-TIMEZONE:Europe/Madrid
BEGIN:VEVENT
SUMMARY:Els 3 Tombs
DTSTART;TZID=Europe/Madrid;VALUE=DATE-TIME:20080127T114500
DTEND;TZID=Europe/Madrid;VALUE=DATE-TIME:20080127T124500
DTSTAMP;VALUE=DATE-TIME:20260420T032448Z
UID:d9166725acec22a570c50637c526d9c6
CREATED;VALUE=DATE-TIME:20080127T000000Z
CATEGORIES:Festa
LOCATION:Passeig de la Mare de Déu de Montserrat
ORGANIZER:Germandat Antiga de Sant Antoni Abat
DESCRIPTION:Festa de Sant Antoni Abad
URL:https://ajllavaneres.cat/document.php?id=508
END:VEVENT
END:VCALENDAR