BEGIN:VCALENDAR
VERSION:2.0
PRODID:-//Plone.org//NONSGML plone.app.event//EN
X-WR-TIMEZONE:Europe/Madrid
BEGIN:VEVENT
SUMMARY:Cinema clàssic: &OpenCurlyDoubleQuote;La reina de África&CloseCurlyDoubleQuote;
DTSTART;TZID=Europe/Madrid;VALUE=DATE-TIME:20111106T190000
DTEND;TZID=Europe/Madrid;VALUE=DATE-TIME:20111106T200000
DTSTAMP;VALUE=DATE-TIME:20260423T075052Z
UID:0f14be9ac83a0aec05c040c28e094f9b
CREATED;VALUE=DATE-TIME:20111106T000000Z
CATEGORIES:Cinema
LOCATION:El Casal de Llavaneres ( Sala Polivalent )
ORGANIZER:Secció de Cultura d'El Casal de Llavaneres
COMMENT:Preu: 5 euros
DESCRIPTION:Festival de les Arts
URL:https://ajllavaneres.cat/document.php?id=5119
END:VEVENT
END:VCALENDAR