BEGIN:VCALENDAR
VERSION:2.0
PRODID:-//Plone.org//NONSGML plone.app.event//EN
X-WR-TIMEZONE:Europe/Madrid
BEGIN:VEVENT
SUMMARY:Conferència: "L'astronàutica i la seva història, cinquanta anys d'Sputnik"
DTSTART;TZID=Europe/Madrid;VALUE=DATE-TIME:20071205T190000
DTEND;TZID=Europe/Madrid;VALUE=DATE-TIME:20071205T200000
DTSTAMP;VALUE=DATE-TIME:20260420T065244Z
UID:f4fb654be823667f562be1000482053f
CREATED;VALUE=DATE-TIME:20071205T000000Z
CATEGORIES:Conferència
LOCATION:Sala d'actes de la Biblioteca Municipal
ORGANIZER:Biblioteca Municipal. Regidoria de Cultura
DESCRIPTION:a càrrec d'Albert Pla
URL:https://ajllavaneres.cat/document.php?id=512
END:VEVENT
END:VCALENDAR