BEGIN:VCALENDAR
VERSION:2.0
PRODID:-//Plone.org//NONSGML plone.app.event//EN
X-WR-TIMEZONE:Europe/Madrid
BEGIN:VEVENT
SUMMARY:Espectacle infantil
DTSTART;TZID=Europe/Madrid;VALUE=DATE-TIME:20111130T183000
DTEND;TZID=Europe/Madrid;VALUE=DATE-TIME:20111130T193000
DTSTAMP;VALUE=DATE-TIME:20260422T135209Z
UID:6c6f723a0c29cc3d70745571e147ccc3
CREATED;VALUE=DATE-TIME:20111130T000000Z
LOCATION:Sala polivalent d'El Casal de Llavaneres
ORGANIZER:La Xarxa d'Espectacles Infantil i Juvenil
DESCRIPTION:"Mag màgia", amb Enric Magoo
URL:https://ajllavaneres.cat/document.php?id=5129
END:VEVENT
END:VCALENDAR