BEGIN:VCALENDAR
VERSION:2.0
PRODID:-//Plone.org//NONSGML plone.app.event//EN
X-WR-TIMEZONE:Europe/Madrid
BEGIN:VEVENT
SUMMARY:Cavalcada de Ses Majestats d'Orient
DTSTART;TZID=Europe/Madrid;VALUE=DATE-TIME:20120105T183000
DTEND;TZID=Europe/Madrid;VALUE=DATE-TIME:20120105T193000
DTSTAMP;VALUE=DATE-TIME:20260422T133236Z
UID:7871a615a7cfa7d8711f30297b35cae8
CREATED;VALUE=DATE-TIME:20120105T000000Z
LOCATION:Pels carrers de Llavaneres i la plaça de la Vila
ORGANIZER:Patronat Cavalcada de Reis
URL:https://ajllavaneres.cat/document.php?id=5194
END:VEVENT
END:VCALENDAR