BEGIN:VCALENDAR
VERSION:2.0
PRODID:-//Plone.org//NONSGML plone.app.event//EN
X-WR-TIMEZONE:Europe/Madrid
BEGIN:VEVENT
SUMMARY:Futbol 1r Equip
DTSTART;TZID=Europe/Madrid;VALUE=DATE-TIME:20071118T121500
DTEND;TZID=Europe/Madrid;VALUE=DATE-TIME:20071118T131500
DTSTAMP;VALUE=DATE-TIME:20260420T074923Z
UID:74cd6a83cb10b2143ac7d60d1422cda9
CREATED;VALUE=DATE-TIME:20071118T000000Z
CATEGORIES:Esports
LOCATION:Camp municipal d'Esports
ORGANIZER:CE Llavaneres
DESCRIPTION:CE Llavaneres-Rocafonda CF
URL:https://ajllavaneres.cat/document.php?id=522
END:VEVENT
END:VCALENDAR