BEGIN:VCALENDAR
VERSION:2.0
PRODID:-//Plone.org//NONSGML plone.app.event//EN
X-WR-TIMEZONE:Europe/Madrid
BEGIN:VEVENT
SUMMARY:Cadena humana
DTSTART;TZID=Europe/Madrid;VALUE=DATE-TIME:20111204T110000
DTEND;TZID=Europe/Madrid;VALUE=DATE-TIME:20111204T120000
DTSTAMP;VALUE=DATE-TIME:20260420T042104Z
UID:892a72df78d093efb3f81354860623ed
CREATED;VALUE=DATE-TIME:20111204T000000Z
LOCATION:Oficina d'informació de Sant Pere (concentració)
ORGANIZER:Llavaneres amb la Marató. Hi col·labora: Ajuntament de Sant Andreu de Llavaneres
COMMENT:Preu: Donatius a partir d'1 euro, a benefici de la Marató
DESCRIPTION:Quatre viles per la Marató
URL:https://ajllavaneres.cat/document.php?id=5226
END:VEVENT
END:VCALENDAR