BEGIN:VCALENDAR
VERSION:2.0
PRODID:-//Plone.org//NONSGML plone.app.event//EN
X-WR-TIMEZONE:Europe/Madrid
BEGIN:VEVENT
SUMMARY:Bàsquet Cadet masculí A
DTSTART;TZID=Europe/Madrid;VALUE=DATE-TIME:20071118T160000
DTEND;TZID=Europe/Madrid;VALUE=DATE-TIME:20071118T170000
DTSTAMP;VALUE=DATE-TIME:20260419T201210Z
UID:d95a3d4dbe68c49b2044c77ef1ff932e
CREATED;VALUE=DATE-TIME:20071118T000000Z
CATEGORIES:Esports
LOCATION:Pavelló municipal
ORGANIZER:CB Llavaneres
DESCRIPTION:CB Llavaneres-Aecam 3
URL:https://ajllavaneres.cat/document.php?id=523
END:VEVENT
END:VCALENDAR