BEGIN:VCALENDAR
VERSION:2.0
PRODID:-//Plone.org//NONSGML plone.app.event//EN
X-WR-TIMEZONE:Europe/Madrid
BEGIN:VEVENT
SUMMARY:Bàsquet Júnior masculí B
DTSTART;TZID=Europe/Madrid;VALUE=DATE-TIME:20071118T173000
DTEND;TZID=Europe/Madrid;VALUE=DATE-TIME:20071118T183000
DTSTAMP;VALUE=DATE-TIME:20260419T195203Z
UID:83b9e600ed402622d0b92410c1eab10e
CREATED;VALUE=DATE-TIME:20071118T000000Z
CATEGORIES:Esports
LOCATION:Pavelló municipal
ORGANIZER:CB Llavaneres
DESCRIPTION:CB Llavaneres-Can Colapi de Terrassa
URL:https://ajllavaneres.cat/document.php?id=524
END:VEVENT
END:VCALENDAR