BEGIN:VCALENDAR
VERSION:2.0
PRODID:-//Plone.org//NONSGML plone.app.event//EN
X-WR-TIMEZONE:Europe/Madrid
BEGIN:VEVENT
SUMMARY:Taller "Educació sexual i riscos"
DTSTART;TZID=Europe/Madrid;VALUE=DATE-TIME:20071217T090000
DTEND;TZID=Europe/Madrid;VALUE=DATE-TIME:20071217T100000
DTSTAMP;VALUE=DATE-TIME:20260419T214135Z
UID:ab468773a093a932681a7fa2393be210
CREATED;VALUE=DATE-TIME:20071217T000000Z
CATEGORIES:Conferència
LOCATION:IES Llavaneres
ORGANIZER:CEPS
COMMENT:Preu: Gratuït
Durada: També es farà el 18 de desembre de 2008
DESCRIPTION:Per a alumnes de 4rt d'ESO de l'IES Llavaneres
URL:https://ajllavaneres.cat/document.php?id=527
END:VEVENT
END:VCALENDAR