BEGIN:VCALENDAR
VERSION:2.0
PRODID:-//Plone.org//NONSGML plone.app.event//EN
X-WR-TIMEZONE:Europe/Madrid
BEGIN:VEVENT
SUMMARY:Portes obertes a l'escola bressol Sant Nicolau
DTSTART;TZID=Europe/Madrid;VALUE=DATE-TIME:20120425T183000
DTEND;TZID=Europe/Madrid;VALUE=DATE-TIME:20120425T193000
DTSTAMP;VALUE=DATE-TIME:20260422T231011Z
UID:5b8276dfaab698c4657fb1b0be9415ea
CREATED;VALUE=DATE-TIME:20120425T000000Z
LOCATION:Escola Bressol Municipal Sant Nicolau
ORGANIZER:Escola Bressol Municipal Sant Nicolau
DESCRIPTION:Reunió informativa a les famílies
URL:https://ajllavaneres.cat/document.php?id=5511
END:VEVENT
END:VCALENDAR