BEGIN:VCALENDAR
VERSION:2.0
PRODID:-//Plone.org//NONSGML plone.app.event//EN
X-WR-TIMEZONE:Europe/Madrid
BEGIN:VEVENT
SUMMARY:Toca Fusta
DTSTART;TZID=Europe/Madrid;VALUE=DATE-TIME:20120405T090000
DTEND;TZID=Europe/Madrid;VALUE=DATE-TIME:20120405T100000
DTSTAMP;VALUE=DATE-TIME:20260419T234552Z
UID:fbf3bdee262938a0f9539f87f755c378
CREATED;VALUE=DATE-TIME:20120405T000000Z
CATEGORIES:Música
LOCATION:Torre Ametller, Cabrera de Mar
ORGANIZER:Escola Municipal de Música
COMMENT:Durada: Fins el 6 d'abril
DESCRIPTION:Colònies musicals de corda
URL:https://ajllavaneres.cat/document.php?id=5612
END:VEVENT
END:VCALENDAR