BEGIN:VCALENDAR
VERSION:2.0
PRODID:-//Plone.org//NONSGML plone.app.event//EN
X-WR-TIMEZONE:Europe/Madrid
BEGIN:VEVENT
SUMMARY:Moments Musicals a les Escoles
DTSTART;TZID=Europe/Madrid;VALUE=DATE-TIME:20120424T190000
DTEND;TZID=Europe/Madrid;VALUE=DATE-TIME:20120424T200000
DTSTAMP;VALUE=DATE-TIME:20260422T123823Z
UID:11148ffc9b5a690df9a96d46ff08ed79
CREATED;VALUE=DATE-TIME:20120424T000000Z
CATEGORIES:Música
LOCATION:Escola de Música. Can Caralt
ORGANIZER:Escola Municipal de Música de Llavaneres
URL:https://ajllavaneres.cat/document.php?id=5615
END:VEVENT
END:VCALENDAR