BEGIN:VCALENDAR
VERSION:2.0
PRODID:-//Plone.org//NONSGML plone.app.event//EN
X-WR-TIMEZONE:Europe/Madrid
BEGIN:VEVENT
SUMMARY:Cloenda Moments Musicals
DTSTART;TZID=Europe/Madrid;VALUE=DATE-TIME:20120426T110000
DTEND;TZID=Europe/Madrid;VALUE=DATE-TIME:20120426T120000
DTSTAMP;VALUE=DATE-TIME:20260420T032936Z
UID:982764e928bb8b31d59faa8c32d71bba
CREATED;VALUE=DATE-TIME:20120426T000000Z
CATEGORIES:Música
LOCATION:Calella
ORGANIZER:Escola de Música de Llavaneres, Escola de Música de Sant Vicenç de Montalt i Escola de Música de Calella
URL:https://ajllavaneres.cat/document.php?id=5616
END:VEVENT
END:VCALENDAR