BEGIN:VCALENDAR
VERSION:2.0
PRODID:-//Plone.org//NONSGML plone.app.event//EN
X-WR-TIMEZONE:Europe/Madrid
BEGIN:VEVENT
SUMMARY:Conferència: "Transtorns alimentaris"
DTSTART;TZID=Europe/Madrid;VALUE=DATE-TIME:20120425T170000
DTEND;TZID=Europe/Madrid;VALUE=DATE-TIME:20120425T180000
DTSTAMP;VALUE=DATE-TIME:20260422T132446Z
UID:89fa0bd67ec5af5f904823e352d9b684
CREATED;VALUE=DATE-TIME:20120425T000000Z
LOCATION:Casal de Joves. Masia de Can Rivière
ORGANIZER:Regidoria de Joventut, amb la col·laboració de la Diputació de Barcelona
URL:https://ajllavaneres.cat/document.php?id=5619
END:VEVENT
END:VCALENDAR