BEGIN:VCALENDAR
VERSION:2.0
PRODID:-//Plone.org//NONSGML plone.app.event//EN
X-WR-TIMEZONE:Europe/Madrid
BEGIN:VEVENT
SUMMARY:Òpera a El Casal
DTSTART;TZID=Europe/Madrid;VALUE=DATE-TIME:20120513T173000
DTEND;TZID=Europe/Madrid;VALUE=DATE-TIME:20120513T183000
DTSTAMP;VALUE=DATE-TIME:20260420T052221Z
UID:5e8062a04435f594f7e0f48f548f97cc
CREATED;VALUE=DATE-TIME:20120513T000000Z
CATEGORIES:Música
LOCATION:EL Casal de Llavaneres ( Sala de lectura )
ORGANIZER:Secció de Cultura d'El Casal de Llavaneres
COMMENT:Preu: 3 euros
DESCRIPTION:Audició de &OpenCurlyDoubleQuote;L'elisir d'amore&CloseCurlyDoubleQuote;
URL:https://ajllavaneres.cat/document.php?id=5653
END:VEVENT
END:VCALENDAR