BEGIN:VCALENDAR
VERSION:2.0
PRODID:-//Plone.org//NONSGML plone.app.event//EN
X-WR-TIMEZONE:Europe/Madrid
BEGIN:VEVENT
SUMMARY:Iniciació a la meditació
DTSTART;TZID=Europe/Madrid;VALUE=DATE-TIME:20120518T213000
DTEND;TZID=Europe/Madrid;VALUE=DATE-TIME:20120518T223000
DTSTAMP;VALUE=DATE-TIME:20260423T034835Z
UID:6b38ee43e6463a6014b0e6b7984ecd8d
CREATED;VALUE=DATE-TIME:20120518T000000Z
CATEGORIES:Conferència
LOCATION:El Casal de llavaneres ( Sala de lectura )
ORGANIZER:Secció de Cultura d'El Casal de Llavaneres
DESCRIPTION:Xerrada a carrec de Miquel Lázaro
URL:https://ajllavaneres.cat/document.php?id=5658
END:VEVENT
END:VCALENDAR