BEGIN:VCALENDAR
VERSION:2.0
PRODID:-//Plone.org//NONSGML plone.app.event//EN
X-WR-TIMEZONE:Europe/Madrid
BEGIN:VEVENT
SUMMARY:Mulla't per l'esclerosi múltiple
DTSTART;TZID=Europe/Madrid;VALUE=DATE-TIME:20120708T120000
DTEND;TZID=Europe/Madrid;VALUE=DATE-TIME:20120708T130000
DTSTAMP;VALUE=DATE-TIME:20260419T171934Z
UID:8ff12b402d1a6e632e5ee718af6ec820
CREATED;VALUE=DATE-TIME:20120708T000000Z
CATEGORIES:Esports
LOCATION:Piscina municipal
ORGANIZER:Fundació Esclerosi Múltiple
URL:https://ajllavaneres.cat/document.php?id=5659
END:VEVENT
END:VCALENDAR