BEGIN:VCALENDAR
VERSION:2.0
PRODID:-//Plone.org//NONSGML plone.app.event//EN
X-WR-TIMEZONE:Europe/Madrid
BEGIN:VEVENT
SUMMARY:Casal d'Estiu de La Dona per la Dona
DTSTART;TZID=Europe/Madrid;VALUE=DATE-TIME:20120702T000000
DTEND;TZID=Europe/Madrid;VALUE=DATE-TIME:20120702T010000
DTSTAMP;VALUE=DATE-TIME:20260419T221705Z
UID:08034fde2e8286dc6d6aecfa3afbb092
CREATED;VALUE=DATE-TIME:20120702T000000Z
CATEGORIES:Cursos
LOCATION:Seu de la "Dona per la Dona" a Can Caralt
ORGANIZER:La Dona per la Dona
COMMENT:Preu: Segons activitat
Durada: Juliol i agost
DESCRIPTION:Tallers i activitats per als mesos de juliol i agost
URL:https://ajllavaneres.cat/document.php?id=5797
END:VEVENT
END:VCALENDAR