BEGIN:VCALENDAR
VERSION:2.0
PRODID:-//Plone.org//NONSGML plone.app.event//EN
X-WR-TIMEZONE:Europe/Madrid
BEGIN:VEVENT
SUMMARY:56è Homenatge a la Vellesa
DTSTART;TZID=Europe/Madrid;VALUE=DATE-TIME:20120902T113000
DTEND;TZID=Europe/Madrid;VALUE=DATE-TIME:20120902T123000
DTSTAMP;VALUE=DATE-TIME:20260419T215859Z
UID:dfc5bd5930437b7a43106f804c0f4a83
CREATED;VALUE=DATE-TIME:20120902T000000Z
LOCATION:Església parroquial i parc de Ca l'Alfaro
ORGANIZER:Patronat Local de la Vellesa
DESCRIPTION:Adreçat a majors de 75 anys
URL:https://ajllavaneres.cat/document.php?id=5932
END:VEVENT
END:VCALENDAR