BEGIN:VCALENDAR
VERSION:2.0
PRODID:-//Plone.org//NONSGML plone.app.event//EN
X-WR-TIMEZONE:Europe/Madrid
BEGIN:VEVENT
SUMMARY:Dalí, de nit
DTSTART;TZID=Europe/Madrid;VALUE=DATE-TIME:20120831T200000
DTEND;TZID=Europe/Madrid;VALUE=DATE-TIME:20120831T210000
DTSTAMP;VALUE=DATE-TIME:20260420T065510Z
UID:f1c079254b5f94c025ec1dfc9d532bf3
CREATED;VALUE=DATE-TIME:20120831T000000Z
CATEGORIES:Exposició,Mostra
LOCATION:Plaça de la Vila
ORGANIZER:Secció de Cultura d'El Casal i Museu-Arxiu Vives i Tutó
COMMENT:Preu: 32 euros
DESCRIPTION:Visita al Museu Dalí de Figueres
URL:https://ajllavaneres.cat/document.php?id=5960
END:VEVENT
END:VCALENDAR