BEGIN:VCALENDAR
VERSION:2.0
PRODID:-//Plone.org//NONSGML plone.app.event//EN
X-WR-TIMEZONE:Europe/Madrid
BEGIN:VEVENT
SUMMARY:Homenatge a Francesc Gurri
DTSTART;TZID=Europe/Madrid;VALUE=DATE-TIME:20121014T173000
DTEND;TZID=Europe/Madrid;VALUE=DATE-TIME:20121014T183000
DTSTAMP;VALUE=DATE-TIME:20260419T232143Z
UID:2f722c9ffc691db5a2c47482e49057b5
CREATED;VALUE=DATE-TIME:20121014T000000Z
LOCATION:Sala Polivalent d'El Casal de Llavaneres
ORGANIZER:Grup d'harmòniques Francesc Gurri, grup musical El Cau d'Art, Coral Sant Andreu i Esperit de Joventut. Amb la col·laboració del Casal de la Gent Gran
URL:https://ajllavaneres.cat/document.php?id=5991
END:VEVENT
END:VCALENDAR