BEGIN:VCALENDAR
VERSION:2.0
PRODID:-//Plone.org//NONSGML plone.app.event//EN
X-WR-TIMEZONE:Europe/Madrid
BEGIN:VEVENT
SUMMARY:"Sociologia de la guerra revolucionària a Mataró. 1936-1939"
DTSTART;TZID=Europe/Madrid;VALUE=DATE-TIME:20070524T190000
DTEND;TZID=Europe/Madrid;VALUE=DATE-TIME:20070524T200000
DTSTAMP;VALUE=DATE-TIME:20260420T091856Z
UID:5243f6201fb803fa1d298a1c050e7a52
CREATED;VALUE=DATE-TIME:20070524T000000Z
CATEGORIES:Literatura
LOCATION:Biblioteca municipal
ORGANIZER:Biblioteca municipal
COMMENT:Durada: Durant tot el mes d'abril
DESCRIPTION:Presetanció del llibre de Josep Xaubet i Vilanova
URL:https://ajllavaneres.cat/document.php?id=6
END:VEVENT
END:VCALENDAR