BEGIN:VCALENDAR
VERSION:2.0
PRODID:-//Plone.org//NONSGML plone.app.event//EN
X-WR-TIMEZONE:Europe/Madrid
BEGIN:VEVENT
SUMMARY:Espectacle infantil: "El maleït castell"
DTSTART;TZID=Europe/Madrid;VALUE=DATE-TIME:20121021T180000
DTEND;TZID=Europe/Madrid;VALUE=DATE-TIME:20121021T190000
DTSTAMP;VALUE=DATE-TIME:20260420T100535Z
UID:828f9d80668eef91c5b4658ad70a21b4
CREATED;VALUE=DATE-TIME:20121021T000000Z
CATEGORIES:Infantils,Teatre
LOCATION:Sala Polivalent del Casal de Llavaneres
ORGANIZER:Fundació Xarxa d'Espectacle Infantil i Juvenil de Catalunya
COMMENT:Preu: 4 euros
DESCRIPTION:A càrrec de la companyia Galiot
URL:https://ajllavaneres.cat/document.php?id=6044
END:VEVENT
END:VCALENDAR